Workbook
Name b: 'FB 3.5'!$A$5:$H$17

Sheet Pivot
A1: Getreidepreise für die Futterkostenberechnung
A2: Netto-Erzeugerpreise in €/dt
A4: - ohne Gewähr
A6: Jahr | B6: 2026
C8: Getreide | D8: Werte
C9: Gerste | E9: Hafer | G9: Mais | I9: Roggen | K9: Triticale | M9: Weizen
A10: Monat | B10: Expr1002 | C10: von | D10: bis | E10: von | F10: bis | G10: von | H10: bis | I10: von | J10: bis | K10: von | L10: bis | M10: von | N10: bis
A11: Januar | B11: 1 | C11: 14.6 | D11: 17.95 | E11: 12.6 | F11: 17.45 | G11: 15 | H11: 19.95 | I11: 13.4 | J11: 17.25 | K11: 14.3 | L11: 17.75 | M11: 14.8 | N11: 18.35
A12: Februar | B12: 2 | C12: 14.9 | D12: 18.05 | E12: 12.8 | F12: 17.45 | G12: 17.5 | H12: 20.2 | I12: 14 | J12: 17.45 | K12: 14.7 | L12: 17.75 | M12: 15.1 | N12: 18.45
A13: März | B13: 3 | C13: 15.7 | D13: 17.8 | E13: 12.75 | F13: 16.95 | G13: 18 | H13: 20.95 | I13: 14.7 | J13: 16.75 | K13: 15 | L13: 17.95 | M13: 15.7 | N13: 18.45
A14: April | B14: 4 | C14: 16 | D14: 18.4 | E14: 12.8 | F14: 16.95 | G14: 18 | H14: 21.45 | I14: 14 | J14: 17.45 | K14: 15.1 | L14: 18.45 | M14: 16 | N14: 19.45
A15: Mai | B15: 5 | C15: 15.7 | D15: 19.95 | E15: 12.4 | F15: 17.45 | G15: 19 | H15: 21.45 | I15: 13.8 | J15: 18.45 | K15: 14.5 | L15: 18.95 | M15: 16.3 | N15: 19.45
A16: Juni | B16: 6 | C16: 16.2 | D16: 19.45 | E16: 11.85 | F16: 16.45 | G16: 19.5 | H16: 22.95 | I16: 14.15 | J16: 17.75 | K16: 14.85 | L16: 18.45 | M16: 16.2 | N16: 19.45
A17: Juli | B17: 7 | C17: 14.6 | D17: 17.05 | E17: 12.2 | F17: 15.95 | G17: 17.1 | H17: 21.65 | I17: 13.2 | J17: 16.05 | K17: 14.7 | L17: 17.15 | M17: 15.8 | N17: 18.25
A18: August | B18: 8 | C18: 14.8 | D18: 18.05 | E18: 12.8 | F18: 16.35 | G18: 18 | H18: 22.95 | I18: 14 | J18: 16.85 | K18: 15.3 | L18: 19.25 | M18: 17.2 | N18: 20.25
A19: September | B19: 9 | C19: 16.8 | D19: 19.75 | E19: 12 | F19: 16.95 | G19: 20.5 | H19: 25.45 | I19: 15 | J19: 18.25 | K19: 16.4 | L19: 20.25 | M19: 18.5 | N19: 21.55
A20: Oktober | B20: 10 | C20: 17.5 | D20: 20.75 | E20: 13 | F20: 18.95 | G20: 22.4 | H20: 26.35 | I20: 16 | J20: 18.95 | K20: 18.5 | L20: 21.25 | M20: 19.2 | N20: 22.75
A21: November | B21: 11 | C21: 16.5 | D21: 20.45 | E21: 13.05 | F21: 18.45 | G21: 20.5 | H21: 26.95 | I21: 15 | J21: 19.25 | K21: 16.3 | L21: 21.25 | M21: 18.3 | N21: 22.45

Sheet FB 3.5
A1: ="Getreidepreise "&TEXT(DATE($A$5,MAX(B6:B17),1),"MMMM JJJJ") -> Getreidepreise November 2026
A3: Als Richtwerte schlagen wir die vom Fachbereich 3.1 der Landwirtschaftskammer vorläufig geschätzten Getreidepreise (netto) in €/100 kg für die Futterkostenberechnung vor.
A5: =Pivot!$B$6 -> 2026 | C5: =Pivot!$C$9 -> Gerste | D5: =Pivot!$E$9 -> Hafer | E5: =Pivot!$G$9 -> Mais | F5: =Pivot!$I$9 -> Roggen | G5: =Pivot!$K$9 -> Triticale | H5: =Pivot!$M$9 -> Weizen
A6: =Pivot!$A$11 -> Januar | B6: =VLOOKUP('FB 3.5'!$A6,Pivot!$A:$N,2,FALSE) -> 1 | C6: =IF($A6="","",TEXT(VLOOKUP('FB 3.5'!$A6,Pivot!$A:$N,3,FALSE),"0,00")&" - "&TEXT(VLOOKUP('FB 3.5'!$A6,Pivot!$A:$N,4,FALSE),"0,00")) -> 14,60 - 17,95 | D6: =IF($A6="","",TEXT(VLOOKUP('FB 3.5'!$A6,Pivot!$A:$N,5,FALSE),"0,00")&" - "&TEXT(VLOOKUP('FB 3.5'!$A6,Pivot!$A:$N,6,FALSE),"0,00")) -> 12,60 - 17,45 | E6: =IF($A6="","",TEXT(VLOOKUP('FB 3.5'!$A6,Pivot!$A:$N,7,FALSE),"0,00")&" - "&TEXT(VLOOKUP('FB 3.5'!$A6,Pivot!$A:$N,8,FALSE),"0,00")) -> 15,00 - 19,95 | F6: =IF($A6="","",TEXT(VLOOKUP('FB 3.5'!$A6,Pivot!$A:$N,9,FALSE),"0,00")&" - "&TEXT(VLOOKUP('FB 3.5'!$A6,Pivot!$A:$N,10,FALSE),"0,00")) -> 13,40 - 17,25 | G6: =IF($A6="","",TEXT(VLOOKUP('FB 3.5'!$A6,Pivot!$A:$N,11,FALSE),"0,00")&" - "&TEXT(VLOOKUP('FB 3.5'!$A6,Pivot!$A:$N,12,FALSE),"0,00")) -> 14,30 - 17,75 | H6: =IF($A6="","",TEXT(VLOOKUP('FB 3.5'!$A6,Pivot!$A:$N,13,FALSE),"0,00")&" - "&TEXT(VLOOKUP('FB 3.5'!$A6,Pivot!$A:$N,14,FALSE),"0,00")) -> 14,80 - 18,35
A7: =IF(ISBLANK(Pivot!A12)=TRUE,"",Pivot!A12) -> Februar | B7: =IF(A7="","",VLOOKUP('FB 3.5'!$A7,Pivot!$A:$N,2,FALSE)) -> 2 | C7: =IF($A7="","",TEXT(VLOOKUP('FB 3.5'!$A7,Pivot!$A:$N,3,FALSE),"0,00")&" - "&TEXT(VLOOKUP('FB 3.5'!$A7,Pivot!$A:$N,4,FALSE),"0,00")) -> 14,90 - 18,05 | D7: =IF($A7="","",TEXT(VLOOKUP('FB 3.5'!$A7,Pivot!$A:$N,5,FALSE),"0,00")&" - "&TEXT(VLOOKUP('FB 3.5'!$A7,Pivot!$A:$N,6,FALSE),"0,00")) -> 12,80 - 17,45 | E7: =IF($A7="","",TEXT(VLOOKUP('FB 3.5'!$A7,Pivot!$A:$N,7,FALSE),"0,00")&" - "&TEXT(VLOOKUP('FB 3.5'!$A7,Pivot!$A:$N,8,FALSE),"0,00")) -> 17,50 - 20,20 | F7: =IF($A7="","",TEXT(VLOOKUP('FB 3.5'!$A7,Pivot!$A:$N,9,FALSE),"0,00")&" - "&TEXT(VLOOKUP('FB 3.5'!$A7,Pivot!$A:$N,10,FALSE),"0,00")) -> 14,00 - 17,45 | G7: =IF($A7="","",TEXT(VLOOKUP('FB 3.5'!$A7,Pivot!$A:$N,11,FALSE),"0,00")&" - "&TEXT(VLOOKUP('FB 3.5'!$A7,Pivot!$A:$N,12,FALSE),"0,00")) -> 14,70 - 17,75 | H7: =IF($A7="","",TEXT(VLOOKUP('FB 3.5'!$A7,Pivot!$A:$N,13,FALSE),"0,00")&" - "&TEXT(VLOOKUP('FB 3.5'!$A7,Pivot!$A:$N,14,FALSE),"0,00")) -> 15,10 - 18,45
A8: =IF(ISBLANK(Pivot!A13)=TRUE,"",Pivot!A13) -> März | B8: =IF(A8="","",VLOOKUP('FB 3.5'!$A8,Pivot!$A:$N,2,FALSE)) -> 3 | C8: =IF($A8="","",TEXT(VLOOKUP('FB 3.5'!$A8,Pivot!$A:$N,3,FALSE),"0,00")&" - "&TEXT(VLOOKUP('FB 3.5'!$A8,Pivot!$A:$N,4,FALSE),"0,00")) -> 15,70 - 17,80 | D8: =IF($A8="","",TEXT(VLOOKUP('FB 3.5'!$A8,Pivot!$A:$N,5,FALSE),"0,00")&" - "&TEXT(VLOOKUP('FB 3.5'!$A8,Pivot!$A:$N,6,FALSE),"0,00")) -> 12,75 - 16,95 | E8: =IF($A8="","",TEXT(VLOOKUP('FB 3.5'!$A8,Pivot!$A:$N,7,FALSE),"0,00")&" - "&TEXT(VLOOKUP('FB 3.5'!$A8,Pivot!$A:$N,8,FALSE),"0,00")) -> 18,00 - 20,95 | F8: =IF($A8="","",TEXT(VLOOKUP('FB 3.5'!$A8,Pivot!$A:$N,9,FALSE),"0,00")&" - "&TEXT(VLOOKUP('FB 3.5'!$A8,Pivot!$A:$N,10,FALSE),"0,00")) -> 14,70 - 16,75 | G8: =IF($A8="","",TEXT(VLOOKUP('FB 3.5'!$A8,Pivot!$A:$N,11,FALSE),"0,00")&" - "&TEXT(VLOOKUP('FB 3.5'!$A8,Pivot!$A:$N,12,FALSE),"0,00")) -> 15,00 - 17,95 | H8: =IF($A8="","",TEXT(VLOOKUP('FB 3.5'!$A8,Pivot!$A:$N,13,FALSE),"0,00")&" - "&TEXT(VLOOKUP('FB 3.5'!$A8,Pivot!$A:$N,14,FALSE),"0,00")) -> 15,70 - 18,45
A9: =IF(ISBLANK(Pivot!A14)=TRUE,"",Pivot!A14) -> April | B9: =IF(A9="","",VLOOKUP('FB 3.5'!$A9,Pivot!$A:$N,2,FALSE)) -> 4 | C9: =IF($A9="","",TEXT(VLOOKUP('FB 3.5'!$A9,Pivot!$A:$N,3,FALSE),"0,00")&" - "&TEXT(VLOOKUP('FB 3.5'!$A9,Pivot!$A:$N,4,FALSE),"0,00")) -> 16,00 - 18,40 | D9: =IF($A9="","",TEXT(VLOOKUP('FB 3.5'!$A9,Pivot!$A:$N,5,FALSE),"0,00")&" - "&TEXT(VLOOKUP('FB 3.5'!$A9,Pivot!$A:$N,6,FALSE),"0,00")) -> 12,80 - 16,95 | E9: =IF($A9="","",TEXT(VLOOKUP('FB 3.5'!$A9,Pivot!$A:$N,7,FALSE),"0,00")&" - "&TEXT(VLOOKUP('FB 3.5'!$A9,Pivot!$A:$N,8,FALSE),"0,00")) -> 18,00 - 21,45 | F9: =IF($A9="","",TEXT(VLOOKUP('FB 3.5'!$A9,Pivot!$A:$N,9,FALSE),"0,00")&" - "&TEXT(VLOOKUP('FB 3.5'!$A9,Pivot!$A:$N,10,FALSE),"0,00")) -> 14,00 - 17,45 | G9: =IF($A9="","",TEXT(VLOOKUP('FB 3.5'!$A9,Pivot!$A:$N,11,FALSE),"0,00")&" - "&TEXT(VLOOKUP('FB 3.5'!$A9,Pivot!$A:$N,12,FALSE),"0,00")) -> 15,10 - 18,45 | H9: =IF($A9="","",TEXT(VLOOKUP('FB 3.5'!$A9,Pivot!$A:$N,13,FALSE),"0,00")&" - "&TEXT(VLOOKUP('FB 3.5'!$A9,Pivot!$A:$N,14,FALSE),"0,00")) -> 16,00 - 19,45
A10: =IF(ISBLANK(Pivot!A15)=TRUE,"",Pivot!A15) -> Mai | B10: =IF(A10="","",VLOOKUP('FB 3.5'!$A10,Pivot!$A:$N,2,FALSE)) -> 5 | C10: =IF($A10="","",TEXT(VLOOKUP('FB 3.5'!$A10,Pivot!$A:$N,3,FALSE),"0,00")&" - "&TEXT(VLOOKUP('FB 3.5'!$A10,Pivot!$A:$N,4,FALSE),"0,00")) -> 15,70 - 19,95 | D10: =IF($A10="","",TEXT(VLOOKUP('FB 3.5'!$A10,Pivot!$A:$N,5,FALSE),"0,00")&" - "&TEXT(VLOOKUP('FB 3.5'!$A10,Pivot!$A:$N,6,FALSE),"0,00")) -> 12,40 - 17,45 | E10: =IF($A10="","",TEXT(VLOOKUP('FB 3.5'!$A10,Pivot!$A:$N,7,FALSE),"0,00")&" - "&TEXT(VLOOKUP('FB 3.5'!$A10,Pivot!$A:$N,8,FALSE),"0,00")) -> 19,00 - 21,45 | F10: =IF($A10="","",TEXT(VLOOKUP('FB 3.5'!$A10,Pivot!$A:$N,9,FALSE),"0,00")&" - "&TEXT(VLOOKUP('FB 3.5'!$A10,Pivot!$A:$N,10,FALSE),"0,00")) -> 13,80 - 18,45 | G10: =IF($A10="","",TEXT(VLOOKUP('FB 3.5'!$A10,Pivot!$A:$N,11,FALSE),"0,00")&" - "&TEXT(VLOOKUP('FB 3.5'!$A10,Pivot!$A:$N,12,FALSE),"0,00")) -> 14,50 - 18,95 | H10: =IF($A10="","",TEXT(VLOOKUP('FB 3.5'!$A10,Pivot!$A:$N,13,FALSE),"0,00")&" - "&TEXT(VLOOKUP('FB 3.5'!$A10,Pivot!$A:$N,14,FALSE),"0,00")) -> 16,30 - 19,45
A11: =IF(ISBLANK(Pivot!A16)=TRUE,"",Pivot!A16) -> Juni | B11: =IF(A11="","",VLOOKUP('FB 3.5'!$A11,Pivot!$A:$N,2,FALSE)) -> 6 | C11: =IF($A11="","",TEXT(VLOOKUP('FB 3.5'!$A11,Pivot!$A:$N,3,FALSE),"0,00")&" - "&TEXT(VLOOKUP('FB 3.5'!$A11,Pivot!$A:$N,4,FALSE),"0,00")) -> 16,20 - 19,45 | D11: =IF($A11="","",TEXT(VLOOKUP('FB 3.5'!$A11,Pivot!$A:$N,5,FALSE),"0,00")&" - "&TEXT(VLOOKUP('FB 3.5'!$A11,Pivot!$A:$N,6,FALSE),"0,00")) -> 11,85 - 16,45 | E11: =IF($A11="","",TEXT(VLOOKUP('FB 3.5'!$A11,Pivot!$A:$N,7,FALSE),"0,00")&" - "&TEXT(VLOOKUP('FB 3.5'!$A11,Pivot!$A:$N,8,FALSE),"0,00")) -> 19,50 - 22,95 | F11: =IF($A11="","",TEXT(VLOOKUP('FB 3.5'!$A11,Pivot!$A:$N,9,FALSE),"0,00")&" - "&TEXT(VLOOKUP('FB 3.5'!$A11,Pivot!$A:$N,10,FALSE),"0,00")) -> 14,15 - 17,75 | G11: =IF($A11="","",TEXT(VLOOKUP('FB 3.5'!$A11,Pivot!$A:$N,11,FALSE),"0,00")&" - "&TEXT(VLOOKUP('FB 3.5'!$A11,Pivot!$A:$N,12,FALSE),"0,00")) -> 14,85 - 18,45 | H11: =IF($A11="","",TEXT(VLOOKUP('FB 3.5'!$A11,Pivot!$A:$N,13,FALSE),"0,00")&" - "&TEXT(VLOOKUP('FB 3.5'!$A11,Pivot!$A:$N,14,FALSE),"0,00")) -> 16,20 - 19,45
A12: =IF(ISBLANK(Pivot!A17)=TRUE,"",Pivot!A17) -> Juli | B12: =IF(A12="","",VLOOKUP('FB 3.5'!$A12,Pivot!$A:$N,2,FALSE)) -> 7 | C12: =IF($A12="","",TEXT(VLOOKUP('FB 3.5'!$A12,Pivot!$A:$N,3,FALSE),"0,00")&" - "&TEXT(VLOOKUP('FB 3.5'!$A12,Pivot!$A:$N,4,FALSE),"0,00")) -> 14,60 - 17,05 | D12: =IF($A12="","",TEXT(VLOOKUP('FB 3.5'!$A12,Pivot!$A:$N,5,FALSE),"0,00")&" - "&TEXT(VLOOKUP('FB 3.5'!$A12,Pivot!$A:$N,6,FALSE),"0,00")) -> 12,20 - 15,95 | E12: =IF($A12="","",TEXT(VLOOKUP('FB 3.5'!$A12,Pivot!$A:$N,7,FALSE),"0,00")&" - "&TEXT(VLOOKUP('FB 3.5'!$A12,Pivot!$A:$N,8,FALSE),"0,00")) -> 17,10 - 21,65 | F12: =IF($A12="","",TEXT(VLOOKUP('FB 3.5'!$A12,Pivot!$A:$N,9,FALSE),"0,00")&" - "&TEXT(VLOOKUP('FB 3.5'!$A12,Pivot!$A:$N,10,FALSE),"0,00")) -> 13,20 - 16,05 | G12: =IF($A12="","",TEXT(VLOOKUP('FB 3.5'!$A12,Pivot!$A:$N,11,FALSE),"0,00")&" - "&TEXT(VLOOKUP('FB 3.5'!$A12,Pivot!$A:$N,12,FALSE),"0,00")) -> 14,70 - 17,15 | H12: =IF($A12="","",TEXT(VLOOKUP('FB 3.5'!$A12,Pivot!$A:$N,13,FALSE),"0,00")&" - "&TEXT(VLOOKUP('FB 3.5'!$A12,Pivot!$A:$N,14,FALSE),"0,00")) -> 15,80 - 18,25
A13: =IF(ISBLANK(Pivot!A18)=TRUE,"",Pivot!A18) -> August | B13: =IF(A13="","",VLOOKUP('FB 3.5'!$A13,Pivot!$A:$N,2,FALSE)) -> 8 | C13: =IF($A13="","",TEXT(VLOOKUP('FB 3.5'!$A13,Pivot!$A:$N,3,FALSE),"0,00")&" - "&TEXT(VLOOKUP('FB 3.5'!$A13,Pivot!$A:$N,4,FALSE),"0,00")) -> 14,80 - 18,05 | D13: =IF($A13="","",TEXT(VLOOKUP('FB 3.5'!$A13,Pivot!$A:$N,5,FALSE),"0,00")&" - "&TEXT(VLOOKUP('FB 3.5'!$A13,Pivot!$A:$N,6,FALSE),"0,00")) -> 12,80 - 16,35 | E13: =IF($A13="","",TEXT(VLOOKUP('FB 3.5'!$A13,Pivot!$A:$N,7,FALSE),"0,00")&" - "&TEXT(VLOOKUP('FB 3.5'!$A13,Pivot!$A:$N,8,FALSE),"0,00")) -> 18,00 - 22,95 | F13: =IF($A13="","",TEXT(VLOOKUP('FB 3.5'!$A13,Pivot!$A:$N,9,FALSE),"0,00")&" - "&TEXT(VLOOKUP('FB 3.5'!$A13,Pivot!$A:$N,10,FALSE),"0,00")) -> 14,00 - 16,85 | G13: =IF($A13="","",TEXT(VLOOKUP('FB 3.5'!$A13,Pivot!$A:$N,11,FALSE),"0,00")&" - "&TEXT(VLOOKUP('FB 3.5'!$A13,Pivot!$A:$N,12,FALSE),"0,00")) -> 15,30 - 19,25 | H13: =IF($A13="","",TEXT(VLOOKUP('FB 3.5'!$A13,Pivot!$A:$N,13,FALSE),"0,00")&" - "&TEXT(VLOOKUP('FB 3.5'!$A13,Pivot!$A:$N,14,FALSE),"0,00")) -> 17,20 - 20,25
A14: =IF(ISBLANK(Pivot!A19)=TRUE,"",Pivot!A19) -> September | B14: =IF(A14="","",VLOOKUP('FB 3.5'!$A14,Pivot!$A:$N,2,FALSE)) -> 9 | C14: =IF($A14="","",TEXT(VLOOKUP('FB 3.5'!$A14,Pivot!$A:$N,3,FALSE),"0,00")&" - "&TEXT(VLOOKUP('FB 3.5'!$A14,Pivot!$A:$N,4,FALSE),"0,00")) -> 16,80 - 19,75 | D14: =IF($A14="","",TEXT(VLOOKUP('FB 3.5'!$A14,Pivot!$A:$N,5,FALSE),"0,00")&" - "&TEXT(VLOOKUP('FB 3.5'!$A14,Pivot!$A:$N,6,FALSE),"0,00")) -> 12,00 - 16,95 | E14: =IF($A14="","",TEXT(VLOOKUP('FB 3.5'!$A14,Pivot!$A:$N,7,FALSE),"0,00")&" - "&TEXT(VLOOKUP('FB 3.5'!$A14,Pivot!$A:$N,8,FALSE),"0,00")) -> 20,50 - 25,45 | F14: =IF($A14="","",TEXT(VLOOKUP('FB 3.5'!$A14,Pivot!$A:$N,9,FALSE),"0,00")&" - "&TEXT(VLOOKUP('FB 3.5'!$A14,Pivot!$A:$N,10,FALSE),"0,00")) -> 15,00 - 18,25 | G14: =IF($A14="","",TEXT(VLOOKUP('FB 3.5'!$A14,Pivot!$A:$N,11,FALSE),"0,00")&" - "&TEXT(VLOOKUP('FB 3.5'!$A14,Pivot!$A:$N,12,FALSE),"0,00")) -> 16,40 - 20,25 | H14: =IF($A14="","",TEXT(VLOOKUP('FB 3.5'!$A14,Pivot!$A:$N,13,FALSE),"0,00")&" - "&TEXT(VLOOKUP('FB 3.5'!$A14,Pivot!$A:$N,14,FALSE),"0,00")) -> 18,50 - 21,55
A15: =IF(ISBLANK(Pivot!A20)=TRUE,"",Pivot!A20) -> Oktober | B15: =IF(A15="","",VLOOKUP('FB 3.5'!$A15,Pivot!$A:$N,2,FALSE)) -> 10 | C15: =IF($A15="","",TEXT(VLOOKUP('FB 3.5'!$A15,Pivot!$A:$N,3,FALSE),"0,00")&" - "&TEXT(VLOOKUP('FB 3.5'!$A15,Pivot!$A:$N,4,FALSE),"0,00")) -> 17,50 - 20,75 | D15: =IF($A15="","",TEXT(VLOOKUP('FB 3.5'!$A15,Pivot!$A:$N,5,FALSE),"0,00")&" - "&TEXT(VLOOKUP('FB 3.5'!$A15,Pivot!$A:$N,6,FALSE),"0,00")) -> 13,00 - 18,95 | E15: =IF($A15="","",TEXT(VLOOKUP('FB 3.5'!$A15,Pivot!$A:$N,7,FALSE),"0,00")&" - "&TEXT(VLOOKUP('FB 3.5'!$A15,Pivot!$A:$N,8,FALSE),"0,00")) -> 22,40 - 26,35 | F15: =IF($A15="","",TEXT(VLOOKUP('FB 3.5'!$A15,Pivot!$A:$N,9,FALSE),"0,00")&" - "&TEXT(VLOOKUP('FB 3.5'!$A15,Pivot!$A:$N,10,FALSE),"0,00")) -> 16,00 - 18,95 | G15: =IF($A15="","",TEXT(VLOOKUP('FB 3.5'!$A15,Pivot!$A:$N,11,FALSE),"0,00")&" - "&TEXT(VLOOKUP('FB 3.5'!$A15,Pivot!$A:$N,12,FALSE),"0,00")) -> 18,50 - 21,25 | H15: =IF($A15="","",TEXT(VLOOKUP('FB 3.5'!$A15,Pivot!$A:$N,13,FALSE),"0,00")&" - "&TEXT(VLOOKUP('FB 3.5'!$A15,Pivot!$A:$N,14,FALSE),"0,00")) -> 19,20 - 22,75
A16: =IF(ISBLANK(Pivot!A21)=TRUE,"",Pivot!A21) -> November | B16: =IF(A16="","",VLOOKUP('FB 3.5'!$A16,Pivot!$A:$N,2,FALSE)) -> 11 | C16: =IF($A16="","",TEXT(VLOOKUP('FB 3.5'!$A16,Pivot!$A:$N,3,FALSE),"0,00")&" - "&TEXT(VLOOKUP('FB 3.5'!$A16,Pivot!$A:$N,4,FALSE),"0,00")) -> 16,50 - 20,45 | D16: =IF($A16="","",TEXT(VLOOKUP('FB 3.5'!$A16,Pivot!$A:$N,5,FALSE),"0,00")&" - "&TEXT(VLOOKUP('FB 3.5'!$A16,Pivot!$A:$N,6,FALSE),"0,00")) -> 13,05 - 18,45 | E16: =IF($A16="","",TEXT(VLOOKUP('FB 3.5'!$A16,Pivot!$A:$N,7,FALSE),"0,00")&" - "&TEXT(VLOOKUP('FB 3.5'!$A16,Pivot!$A:$N,8,FALSE),"0,00")) -> 20,50 - 26,95 | F16: =IF($A16="","",TEXT(VLOOKUP('FB 3.5'!$A16,Pivot!$A:$N,9,FALSE),"0,00")&" - "&TEXT(VLOOKUP('FB 3.5'!$A16,Pivot!$A:$N,10,FALSE),"0,00")) -> 15,00 - 19,25 | G16: =IF($A16="","",TEXT(VLOOKUP('FB 3.5'!$A16,Pivot!$A:$N,11,FALSE),"0,00")&" - "&TEXT(VLOOKUP('FB 3.5'!$A16,Pivot!$A:$N,12,FALSE),"0,00")) -> 16,30 - 21,25 | H16: =IF($A16="","",TEXT(VLOOKUP('FB 3.5'!$A16,Pivot!$A:$N,13,FALSE),"0,00")&" - "&TEXT(VLOOKUP('FB 3.5'!$A16,Pivot!$A:$N,14,FALSE),"0,00")) -> 18,30 - 22,45
A17: =IF(ISBLANK(Pivot!A22)=TRUE,"",Pivot!A22) | B17: =IF(A17="","",VLOOKUP('FB 3.5'!$A17,Pivot!$A:$N,2,FALSE)) | C17: =IF($A17="","",TEXT(VLOOKUP('FB 3.5'!$A17,Pivot!$A:$N,3,FALSE),"0,00")&" - "&TEXT(VLOOKUP('FB 3.5'!$A17,Pivot!$A:$N,4,FALSE),"0,00")) | D17: =IF($A17="","",TEXT(VLOOKUP('FB 3.5'!$A17,Pivot!$A:$N,5,FALSE),"0,00")&" - "&TEXT(VLOOKUP('FB 3.5'!$A17,Pivot!$A:$N,6,FALSE),"0,00")) | E17: =IF($A17="","",TEXT(VLOOKUP('FB 3.5'!$A17,Pivot!$A:$N,7,FALSE),"0,00")&" - "&TEXT(VLOOKUP('FB 3.5'!$A17,Pivot!$A:$N,8,FALSE),"0,00")) | F17: =IF($A17="","",TEXT(VLOOKUP('FB 3.5'!$A17,Pivot!$A:$N,9,FALSE),"0,00")&" - "&TEXT(VLOOKUP('FB 3.5'!$A17,Pivot!$A:$N,10,FALSE),"0,00")) | G17: =IF($A17="","",TEXT(VLOOKUP('FB 3.5'!$A17,Pivot!$A:$N,11,FALSE),"0,00")&" - "&TEXT(VLOOKUP('FB 3.5'!$A17,Pivot!$A:$N,12,FALSE),"0,00")) | H17: =IF($A17="","",TEXT(VLOOKUP('FB 3.5'!$A17,Pivot!$A:$N,13,FALSE),"0,00")&" - "&TEXT(VLOOKUP('FB 3.5'!$A17,Pivot!$A:$N,14,FALSE),"0,00"))
